BEGIN:VCALENDAR
VERSION:2.0
PRODID:-//Faculty of Graduate Studies - University of Sri Jayewardenepura - ECPv6.15.16//NONSGML v1.0//EN
CALSCALE:GREGORIAN
METHOD:PUBLISH
X-WR-CALNAME:Faculty of Graduate Studies - University of Sri Jayewardenepura
X-ORIGINAL-URL:https://www.graduate.sjp.ac.lk
X-WR-CALDESC:Events for Faculty of Graduate Studies - University of Sri Jayewardenepura
REFRESH-INTERVAL;VALUE=DURATION:PT1H
X-Robots-Tag:noindex
X-PUBLISHED-TTL:PT1H
BEGIN:VTIMEZONE
TZID:Asia/Kolkata
BEGIN:STANDARD
TZOFFSETFROM:+0530
TZOFFSETTO:+0530
TZNAME:IST
DTSTART:20200101T000000
END:STANDARD
END:VTIMEZONE
BEGIN:VTIMEZONE
TZID:UTC
BEGIN:STANDARD
TZOFFSETFROM:+0000
TZOFFSETTO:+0000
TZNAME:UTC
DTSTART:20200101T000000
END:STANDARD
END:VTIMEZONE
BEGIN:VEVENT
DTSTART;TZID=Asia/Kolkata:20241203T010000
DTEND;TZID=Asia/Kolkata:20241203T150000
DTSTAMP:20260424T032131
CREATED:20241130T043650Z
LAST-MODIFIED:20241130T045156Z
UID:9327-1733187600-1733238000@www.graduate.sjp.ac.lk
SUMMARY:Applications of Transmission Electron Microscope (TEM) and Scanning Electron Microscope (SEM) in Research
DESCRIPTION:Click here to Register
URL:https://www.graduate.sjp.ac.lk/event/applications-of-tem-and-sem-in-research/
LOCATION:Faculty of Graduate Studies\, University of Sri Jayewardenepura\, Nugegoda\, Western Province\, 10250\, Sri Lanka
ATTACH;FMTTYPE=image/png:https://www.graduate.sjp.ac.lk/wp-content/uploads/2024/11/application-of-biological-samples-using-TEM-and-SEM-1.png
ORGANIZER;CN="Faculty of Graduate Studies%2C University of Sri Jayewardenepura":MAILTO:fgsdeanoffice@sjp.ac.lk
END:VEVENT
BEGIN:VEVENT
DTSTART;TZID=Asia/Kolkata:20230724T183000
DTEND;TZID=Asia/Kolkata:20230724T193000
DTSTAMP:20260424T032131
CREATED:20230720T084056Z
LAST-MODIFIED:20230720T135259Z
UID:8729-1690223400-1690227000@www.graduate.sjp.ac.lk
SUMMARY:ශ්‍රී ලංකාවේ වනගත සහ ගෘහාශ්‍රිතව සිටින අලි ඇතුන් සහ ඔවුන්ගේ කාර්යභාරය
DESCRIPTION:මාසික ප්‍රසිද්ධ දේශනය – 2023 ජූලි\n\nමාතෘකාව: ශ්‍රී ලංකාවේ වනගත සහ ගෘහාශ්‍රිතව සිටින අලි ඇතුන් සහ ඔවුන්ගේ කාර්යභාරය \n\nමාධ්‍යය: සිංහල\n\nDate: ජූලි මස 30 වන අඟහරුවාදා දින\nTime: 06:30 PM – 7:30 PM\n\n\nJoin Zoom Meeting\nhttps://zoom.us/j/96182667976?pwd=STcvR0xCejJTR3U2eElscGlSa3RIZz09\n \nMeeting ID: 961 8266 7976\nPasscode: 711272
URL:https://www.graduate.sjp.ac.lk/event/mpl-july-2023/
LOCATION:Faculty of Graduate Studies\, University of Sri Jayewardenepura\, Nugegoda\, Western Province\, 10250\, Sri Lanka
ATTACH;FMTTYPE=image/jpeg:https://www.graduate.sjp.ac.lk/wp-content/uploads/2023/07/1-MPL 2023 July Web Post.jpg
ORGANIZER;CN="Faculty of Graduate Studies%2C University of Sri Jayewardenepura":MAILTO:fgsdeanoffice@sjp.ac.lk
END:VEVENT
BEGIN:VEVENT
DTSTART;TZID=Asia/Kolkata:20230530T190000
DTEND;TZID=Asia/Kolkata:20230530T200000
DTSTAMP:20260424T032131
CREATED:20230525T103647Z
LAST-MODIFIED:20230525T103647Z
UID:8660-1685473200-1685476800@www.graduate.sjp.ac.lk
SUMMARY:ජාත්‍යන්තර මූල්‍ය අරමුදල සහ ඉන් ඔබ්බට ශ්‍රී ලංකා ආර්ථිකය (Sri Lanka Economy: IMF and Beyond)
DESCRIPTION:Monthly Public Lecture – May 2023\n\nTopic: ජාත්‍යන්තර මූල්‍ය අරමුදල සහ ඉන් ඔබ්බට ශ්‍රී ලංකා ආර්ථිකය (Sri Lanka Economy: IMF and Beyond) \n\nMedium: Sinhala\n\nDate: Tuesday\, 30th May\, 2023\nTime: 07:00 PM – 8:00 PM Colombo\n\n\nJoin Zoom Meeting\nhttps://learn.zoom.us/j/65619619256?pwd=WC9JUFRVUFRDSGt2SmtWL3QyMjhxdz09\n \nMeeting ID: 995 3354 8163\nPasscode: 514722
URL:https://www.graduate.sjp.ac.lk/event/sri-lanka-economy-imf-and-beyond/
LOCATION:Faculty of Graduate Studies\, University of Sri Jayewardenepura\, Nugegoda\, Western Province\, 10250\, Sri Lanka
ATTACH;FMTTYPE=image/png:https://www.graduate.sjp.ac.lk/wp-content/uploads/2023/05/MPL-May-2023-web.png
ORGANIZER;CN="Faculty of Graduate Studies%2C University of Sri Jayewardenepura":MAILTO:fgsdeanoffice@sjp.ac.lk
END:VEVENT
BEGIN:VEVENT
DTSTART;TZID=UTC:20230321T090000
DTEND;TZID=UTC:20230321T130000
DTSTAMP:20260424T032131
CREATED:20230314T124122Z
LAST-MODIFIED:20230314T124704Z
UID:8524-1679389200-1679403600@www.graduate.sjp.ac.lk
SUMMARY:Preconferece workshop on “Innovation and Inventions from Bench to Shelf”
DESCRIPTION:  \nClick Here to Register
URL:https://www.graduate.sjp.ac.lk/event/preconferece-workshop-on-innovation-and-inventions-from-bench-to-shelf/
LOCATION:Western Province
END:VEVENT
BEGIN:VEVENT
DTSTART;TZID=Asia/Kolkata:20220929T190000
DTEND;TZID=Asia/Kolkata:20220929T200000
DTSTAMP:20260424T032131
CREATED:20220922T151347Z
LAST-MODIFIED:20220922T151436Z
UID:8233-1664478000-1664481600@www.graduate.sjp.ac.lk
SUMMARY:මානව හිමිකම් සහ අපේ වගකීම් (Human Rights and Our Responsibilities)
DESCRIPTION:Monthly Public Lecture – September 2022\n\nTopic: මානව හිමිකම් සහ අපේ වගකීම් (Human Rights and Our Responsibilities) \n\nMedium: Sinhala\n\nDate: Thursday\, 29th September\, 2022\nTime: 07:00 PM – 8:00 PM Colombo\n\n\nJoin Zoom Meeting\nhttps://learn.zoom.us/j/65619619256?pwd=WC9JUFRVUFRDSGt2SmtWL3QyMjhxdz09\n \nMeeting ID: 656 1961 9256\nPasscode: WJ%7.XwJ
URL:https://www.graduate.sjp.ac.lk/event/human-rights-and-our-responsibilities/
LOCATION:Faculty of Graduate Studies\, University of Sri Jayewardenepura\, Nugegoda\, Western Province\, 10250\, Sri Lanka
ATTACH;FMTTYPE=image/png:https://www.graduate.sjp.ac.lk/wp-content/uploads/2022/09/MPL-Sep-2022.png
ORGANIZER;CN="Faculty of Graduate Studies%2C University of Sri Jayewardenepura":MAILTO:fgsdeanoffice@sjp.ac.lk
END:VEVENT
BEGIN:VEVENT
DTSTART;TZID=Asia/Kolkata:20220831T193000
DTEND;TZID=Asia/Kolkata:20220831T203000
DTSTAMP:20260424T032131
CREATED:20220831T125940Z
LAST-MODIFIED:20220831T132732Z
UID:8193-1661974200-1661977800@www.graduate.sjp.ac.lk
SUMMARY:හෘදය සහ පෙණහලු කෙරෙහි දුම්පානයේ බලපෑම් කවරේ ද? දුම්පානයෙන් මිදීමට හැකි ද?
DESCRIPTION:Monthly Public Lecture – August 2022\n\nTopic: හෘදය සහ පෙණහලු කෙරෙහි දුම්පානයේ බලපෑම් කවරේ ද? දුම්පානයෙන් මිදීමට හැකි ද? \n\nMedium: Sinhala\n\nDate: Wednesday\, 31st August\, 2022\nTime: 07:30 PM – 8:30 PM Colombo (Time changed)\n\n\nJoin Zoom Meeting\nhttps://learn.zoom.us/j/62431978247?pwd=TnU2azBmVDhlYUdNeThNR0VPcS83dz09\n \nMeeting ID: 688 2158 6849\nPasscode: FgsMPL@8
URL:https://www.graduate.sjp.ac.lk/event/%e0%b7%84%e0%b7%98%e0%b6%af%e0%b6%ba-%e0%b7%83%e0%b7%84-%e0%b6%b4%e0%b7%99%e0%b6%ab%e0%b7%84%e0%b6%bd%e0%b7%94-%e0%b6%9a%e0%b7%99%e0%b6%bb%e0%b7%99%e0%b7%84%e0%b7%92-%e0%b6%af%e0%b7%94%e0%b6%b8/
LOCATION:Faculty of Graduate Studies\, University of Sri Jayewardenepura\, Nugegoda\, Western Province\, 10250\, Sri Lanka
ATTACH;FMTTYPE=image/jpeg:https://www.graduate.sjp.ac.lk/wp-content/uploads/2022/08/New-Microsoft-PowerPoint-Presentation.jpg
ORGANIZER;CN="Faculty of Graduate Studies%2C University of Sri Jayewardenepura":MAILTO:fgsdeanoffice@sjp.ac.lk
END:VEVENT
BEGIN:VEVENT
DTSTART;TZID=Asia/Kolkata:20220505T190000
DTEND;TZID=Asia/Kolkata:20220505T200000
DTSTAMP:20260424T032131
CREATED:20220317T041903Z
LAST-MODIFIED:20220427T093409Z
UID:7916-1651777200-1651780800@www.graduate.sjp.ac.lk
SUMMARY:වඩා හොඳ කාර්යඵල සඳහා නිවැරදි ආකල්ප (Right Attitudes for Better Performance)
DESCRIPTION:Monthly Public Lecture – March 2022\n\nTopic: වඩා හොඳ කාර්යඵල සඳහා නිවැරදි ආකල්ප (Right Attitudes for Better Performance)  \n\nMedium: Sinhala\n\nDate: Thursday\, 5th May\, 2022\nTime: 07:00 PM – 8:00 PM Colombo\n\n\nJoin Zoom Meeting\nhttps://learn.zoom.us/j/62431978247?pwd=TnU2azBmVDhlYUdNeThNR0VPcS83dz09\n \nMeeting ID: 624 3197 8247\nPasscode: 8BDN&aEQ
URL:https://www.graduate.sjp.ac.lk/event/%e0%b7%80%e0%b6%a9%e0%b7%8f-%e0%b7%84%e0%b7%9c%e0%b6%b3-%e0%b6%9a%e0%b7%8f%e0%b6%bb%e0%b7%8a%e0%b6%ba%e0%b6%b5%e0%b6%bd-%e0%b7%83%e0%b6%b3%e0%b7%84%e0%b7%8f-%e0%b6%b1%e0%b7%92%e0%b7%80%e0%b7%90/
LOCATION:Faculty of Graduate Studies\, University of Sri Jayewardenepura\, Nugegoda\, Western Province\, 10250\, Sri Lanka
ATTACH;FMTTYPE=image/png:https://www.graduate.sjp.ac.lk/wp-content/uploads/2022/03/May-MPL-NEW-01-01.png
ORGANIZER;CN="Faculty of Graduate Studies%2C University of Sri Jayewardenepura":MAILTO:fgsdeanoffice@sjp.ac.lk
END:VEVENT
BEGIN:VEVENT
DTSTART;TZID=Asia/Kolkata:20220502T150000
DTEND;TZID=Asia/Kolkata:20220502T160000
DTSTAMP:20260424T032131
CREATED:20220427T092445Z
LAST-MODIFIED:20220427T092618Z
UID:7975-1651503600-1651507200@www.graduate.sjp.ac.lk
SUMMARY:Rainforest and coast: A new project on the archaeology and archaeomalacology of Southern Sri Lanka
DESCRIPTION:International Guest Lecture\n\nTopic: Rainforest and coast: A new project on the archaeology and archaeomalacology of Southern Sri Lanka \n\nMedium: English\n\nDate: Monday\, 02nd May\, 2022  \nTime: 03:00 PM – 4:00 PM Colombo\n\n\nJoin via Zoom:\nhttps://learn.zoom.us/j/61628387765?pwd=eEpTekI0SHp2TnJ5L2hxYzBaMXBWQT09\n\nMeeting ID: 616 2838 7765\nPasscode: PJ9*d*!q
URL:https://www.graduate.sjp.ac.lk/event/rainforest-and-coast-a-new-project-on-the-archaeology-and-archaeomalacology-of-southern-sri-lanka/
LOCATION:Faculty of Graduate Studies\, University of Sri Jayewardenepura\, Nugegoda\, Western Province\, 10250\, Sri Lanka
ATTACH;FMTTYPE=image/png:https://www.graduate.sjp.ac.lk/wp-content/uploads/2022/04/Dr.-Patrik.png
ORGANIZER;CN="Faculty of Graduate Studies%2C University of Sri Jayewardenepura":MAILTO:fgsdeanoffice@sjp.ac.lk
END:VEVENT
BEGIN:VEVENT
DTSTART;TZID=Asia/Kolkata:20220215T190000
DTEND;TZID=Asia/Kolkata:20220215T200000
DTSTAMP:20260424T032131
CREATED:20220209T052841Z
LAST-MODIFIED:20220211T041004Z
UID:7775-1644951600-1644955200@www.graduate.sjp.ac.lk
SUMMARY:කොරෝනාව\, සංගීතය සහ මානසික සුව සහනය
DESCRIPTION:Monthly Public Lecture – February 2022\n\nTopic: කොරෝනාව\, සංගීතය සහ මානසික සුව සහනය\n\nMedium: Sinhala\n\nDate: Tuesday\, 15th February\, 2021  \nTime: 07:00 PM – 8:00 PM Colombo\n\nJoin Zoom Meeting:\nhttps://learn.zoom.us/j/68122019250?pwd=UnMwOTl2V3Z6NXpXdTYwSDlTWkFIZz09Meeting ID: 687 8545 1201\nPasscode: FGSmpl#2
URL:https://www.graduate.sjp.ac.lk/event/%e0%b6%9a%e0%b7%9c%e0%b6%bb%e0%b7%9d%e0%b6%b1%e0%b7%8f%e0%b7%80-%e0%b7%83%e0%b6%82%e0%b6%9c%e0%b7%93%e0%b6%ad%e0%b6%ba-%e0%b7%83%e0%b7%84-%e0%b6%b8%e0%b7%8f%e0%b6%b1%e0%b7%83%e0%b7%92%e0%b6%9a/
LOCATION:Faculty of Graduate Studies\, University of Sri Jayewardenepura\, Nugegoda\, Western Province\, 10250\, Sri Lanka
ATTACH;FMTTYPE=image/jpeg:https://www.graduate.sjp.ac.lk/wp-content/uploads/2022/02/MPL-Feb-new-01-scaled.jpg
ORGANIZER;CN="Faculty of Graduate Studies%2C University of Sri Jayewardenepura":MAILTO:fgsdeanoffice@sjp.ac.lk
END:VEVENT
BEGIN:VEVENT
DTSTART;TZID=Asia/Kolkata:20220121T190000
DTEND;TZID=Asia/Kolkata:20220121T200000
DTSTAMP:20260424T032131
CREATED:20220117T114457Z
LAST-MODIFIED:20220117T114457Z
UID:7742-1642791600-1642795200@www.graduate.sjp.ac.lk
SUMMARY:The Double Burden of Dengue and COVID-19: What is in store for us? - ඩෙංගු සහ COVID 19 රෝගවල බහුවිධ බලපෑම් හමුවේ අපගේ අනාගතය කොයිබට ද? - Prof. Neelika Malavige
DESCRIPTION:Monthly Public Lecture – January 2022\n\nTopic: The Double Burden of Dengue and COVID-19: What is in store for us? – ඩෙංගු සහ COVID 19 රෝගවල බහුවිධ බලපෑම් හමුවේ අපගේ අනාගතය කොයිබට ද?\n\nMedium: Sinhala\n\nDate: Friday\, January 21\, 2021  \nTime: 07:00 PM – 8:00 PM Colombo\n\nJoin Zoom Meeting:\n\nhttps://learn.zoom.us/j/68122019250?pwd=UnMwOTl2V3Z6NXpXdTYwSDlTWkFIZz09 \nMeeting ID: 681 2201 9250\nPasscode: FGSmpl@1
URL:https://www.graduate.sjp.ac.lk/event/the-double-burden-of-dengue-and-covid-19-what-is-in-store-for-us-%e0%b6%a9%e0%b7%99%e0%b6%82%e0%b6%9c%e0%b7%94-%e0%b7%83%e0%b7%84-covid-19-%e0%b6%bb%e0%b7%9d%e0%b6%9c%e0%b7%80%e0%b6%bd-%e0%b6%b6/
LOCATION:Western Province
ATTACH;FMTTYPE=image/jpeg:https://www.graduate.sjp.ac.lk/wp-content/uploads/2022/01/MPL-Jan-V2-01-01-scaled.jpg
ORGANIZER;CN="Faculty of Graduate Studies%2C University of Sri Jayewardenepura":MAILTO:fgsdeanoffice@sjp.ac.lk
END:VEVENT
BEGIN:VEVENT
DTSTART;TZID=Asia/Kolkata:20211221T190000
DTEND;TZID=Asia/Kolkata:20211221T200000
DTSTAMP:20260424T032131
CREATED:20211216T062656Z
LAST-MODIFIED:20211216T062851Z
UID:7659-1640113200-1640116800@www.graduate.sjp.ac.lk
SUMMARY:Lilliputians to Lead the Next Industrial Revolution- මීළඟ කාර්මික විප්ලවයට උරදෙන නැනෝ තාක්ෂණය
DESCRIPTION:Topic: Lilliputians to Lead the Next Industrial Revolution – මීළඟ කාර්මික විප්ලවයට උරදෙන නැනෝ තාක්ෂණය\n \nMedium: Sinhala\n\nDate: Tuesday\, December 21\, 2021  \nTime: 07:00 PM – 8:00 PM Colombo\n\nJoin Zoom Meeting:\n\nhttps://learn.zoom.us/j/65985278462?pwd=ampvQmRRNzI5KzhiVDh5OWNEQkpWdz09\n\nMeeting ID: 659 8527 8462\nPasscode: FGSmpl@12
URL:https://www.graduate.sjp.ac.lk/event/mpl-december/
LOCATION:Western Province
ORGANIZER;CN="Faculty of Graduate Studies%2C University of Sri Jayewardenepura":MAILTO:fgsdeanoffice@sjp.ac.lk
END:VEVENT
BEGIN:VEVENT
DTSTART;TZID=UTC:20211129T190000
DTEND;TZID=UTC:20211129T200000
DTSTAMP:20260424T032131
CREATED:20211126T063148Z
LAST-MODIFIED:20211126T093550Z
UID:7616-1638212400-1638216000@www.graduate.sjp.ac.lk
SUMMARY:යථා තත්ත්වයට පත් වෙන ශ්‍රී ලංකාවේ ආර්ථිකය - Sri Lanka’s Economy Gets Back on Track
DESCRIPTION:Monthly Public Lecture – November 2021\n\n \nTopic: යථා තත්ත්වයට පත් වෙන ශ්‍රී ලංකාවේ ආර්ථිකය – Sri Lanka’s Economy Gets Back on Track\n \nMedium: Sinhala\n\nDate: Monday\, November 29\, 2021  \nTime: 07:00 PM – 8:00 PM Colombo\n\nJoin Zoom Meeting:\n\nhttps://learn.zoom.us/j/67370080286?pwd=UUpWTE5qcis1WXJ0MHdKM1A2TUpuZz09\nMeeting ID: 673 7008 0286\nPasscode: *Yg718k5
URL:https://www.graduate.sjp.ac.lk/event/%e0%b6%ba%e0%b6%ae%e0%b7%8f-%e0%b6%ad%e0%b6%ad%e0%b7%8a%e0%b6%ad%e0%b7%8a%e0%b7%80%e0%b6%ba%e0%b6%a7-%e0%b6%b4%e0%b6%ad%e0%b7%8a-%e0%b7%80%e0%b7%99%e0%b6%b1-%e0%b7%81%e0%b7%8a%e2%80%8d%e0%b6%bb/
LOCATION:Faculty of Graduate Studies\, University of Sri Jayewardenepura\, Nugegoda\, Western Province\, 10250\, Sri Lanka
ATTACH;FMTTYPE=image/png:https://www.graduate.sjp.ac.lk/wp-content/uploads/2021/11/Prof.-Heenkenda-V3-01.png
ORGANIZER;CN="Faculty of Graduate Studies%2C University of Sri Jayewardenepura":MAILTO:fgsdeanoffice@sjp.ac.lk
END:VEVENT
BEGIN:VEVENT
DTSTART;TZID=Asia/Kolkata:20211122T080000
DTEND;TZID=Asia/Kolkata:20211123T050000
DTSTAMP:20260424T032131
CREATED:20211118T092437Z
LAST-MODIFIED:20211118T092702Z
UID:7506-1637568000-1637643600@www.graduate.sjp.ac.lk
SUMMARY:International Conference on Multidisciplinary Approaches (iCMA) - 2021
DESCRIPTION:
URL:https://www.graduate.sjp.ac.lk/event/international-conference-on-multidisciplinary-approaches-icma-2021/
LOCATION:Faculty of Graduate Studies\, University of Sri Jayewardenepura\, Nugegoda\, Western Province\, 10250\, Sri Lanka
ORGANIZER;CN="Faculty of Graduate Studies%2C University of Sri Jayewardenepura":MAILTO:fgsdeanoffice@sjp.ac.lk
END:VEVENT
BEGIN:VEVENT
DTSTART;TZID=UTC:20211026T190000
DTEND;TZID=UTC:20211026T200000
DTSTAMP:20260424T032131
CREATED:20211013T014726Z
LAST-MODIFIED:20211013T014726Z
UID:7343-1635274800-1635278400@www.graduate.sjp.ac.lk
SUMMARY:Monthly Public Lecture October 2021 - රසායනික පොහොර තහනම හා ශ්‍රී ලාංකික කෘෂිකර්මාන්තයේ අනාගතය - Prof. R. Saman Dharmakeerthi
DESCRIPTION:Monthly Public Lecture – October 2021\n\n \nTopic: රසායනික පොහොර තහනම හා ශ්‍රී ලාංකික කෘෂිකර්මාන්තයේ අනාගතය\n \nMedium: Sinhala\n\nDate: Tuesday\, October 26\, 2021  \nTime: 07:00 PM – 8:00 PM Colombo\n\nJoin Zoom Meeting:\n\nhttps://learn.zoom.us/j/64847788170?pwd=RWZXZmx3cUpleE1uZ212WG9PK1U5QT09 \nMeeting ID: 648 4778 8170\nPasscode: FGSLec!1
URL:https://www.graduate.sjp.ac.lk/event/monthly-public-lecture-october-2021-%e0%b6%bb%e0%b7%83%e0%b7%8f%e0%b6%ba%e0%b6%b1%e0%b7%92%e0%b6%9a-%e0%b6%b4%e0%b7%9c%e0%b7%84%e0%b7%9c%e0%b6%bb-%e0%b6%ad%e0%b7%84%e0%b6%b1%e0%b6%b8-%e0%b7%84/
LOCATION:Faculty of Graduate Studies\, University of Sri Jayewardenepura\, Nugegoda\, Western Province\, 10250\, Sri Lanka
ATTACH;FMTTYPE=image/jpeg:https://www.graduate.sjp.ac.lk/wp-content/uploads/2021/10/21-October-public-lecture-scaled.jpg
ORGANIZER;CN="Faculty of Graduate Studies%2C University of Sri Jayewardenepura":MAILTO:fgsdeanoffice@sjp.ac.lk
END:VEVENT
BEGIN:VEVENT
DTSTART;TZID=UTC:20210921T190000
DTEND;TZID=UTC:20210921T200000
DTSTAMP:20260424T032131
CREATED:20210913T032530Z
LAST-MODIFIED:20210917T033511Z
UID:7081-1632250800-1632254400@www.graduate.sjp.ac.lk
SUMMARY:Monthly Public Lecture - September2021 - නෞකා අනතුරු හේතුවෙන් ශ්‍රී ලංකාවේ සාගර ජෛව විවිධත්වය සහ පරිසර පද්ධති කෙරෙහි ඇතිවිය හැකි බලපෑම් - සම්මානිත ජ්‍යේෂ්ඨ මහාචාර්ය රුචිරා කුමාරණතුංග
DESCRIPTION:Monthly Public Lecture – September 2021\n\nTopic: Possible impacts of ship accidents on marine biodiversity & ecosystems  of Sri Lanka\nනෞකා අනතුරු හේතුවෙන් ශ්‍රී ලංකාවේ සාගර ජෛව විවිධත්වය සහ පරිසර පද්ධති කෙරෙහි ඇතිවිය හැකි බලපෑම්\n\nMedium: Sinhala\n\nDate: Tuesday\, September 21\, 2021  \nTime: 07:00 PM – 8:00 PM Colombo\n\n \nJoin Zoom Meeting:\n\nhttps://learn.zoom.us/j/61351469001?pwd=NmlKMlJZWU9oTkNVSjdKcFd2RjlvUT09Meeting ID: 613 5146 9001 \nPasscode: V$A7+eFZ
URL:https://www.graduate.sjp.ac.lk/event/monthly-public-lecture-september2021-%e0%b6%b1%e0%b7%9e%e0%b6%9a%e0%b7%8f-%e0%b6%85%e0%b6%b1%e0%b6%ad%e0%b7%94%e0%b6%bb%e0%b7%94-%e0%b7%84%e0%b7%9a%e0%b6%ad%e0%b7%94%e0%b7%80%e0%b7%99%e0%b6%b1/
LOCATION:Faculty of Graduate Studies\, University of Sri Jayewardenepura\, Nugegoda\, Western Province\, 10250\, Sri Lanka
ORGANIZER;CN="Faculty of Graduate Studies%2C University of Sri Jayewardenepura":MAILTO:fgsdeanoffice@sjp.ac.lk
END:VEVENT
BEGIN:VEVENT
DTSTART;TZID=Asia/Kolkata:20210819T190000
DTEND;TZID=Asia/Kolkata:20210819T200000
DTSTAMP:20260424T032131
CREATED:20210812T181127Z
LAST-MODIFIED:20210827T084455Z
UID:6457-1629399600-1629403200@www.graduate.sjp.ac.lk
SUMMARY:Mindfulness as a tool for prevention of COVID 19
DESCRIPTION:Monthly Public Lecture – August 2021\n\n \nTopic: Mindfulness as a tool for prevention of COVID 19\nකොවිඩ් 19 වැළැක්වීමේ මෙවලමක් ලෙස සතිමත්බව.\n\n \nMedium: Sinhala\n \n\nDate: Thursday\, August 19\, 2021  \nTime: 07:00 PM – 8:00 PM Colombo\nJoin Zoom Meeting:\n\nhttps://learn.zoom.us/j/62678898092?pwd=VSs2U0pvaFIyMWVEd1pXNjVBcG9LQT09\n\nMeeting ID: 626 7889 8092\nPasscode: Ku&5JPfK
URL:https://www.graduate.sjp.ac.lk/event/mindfulness-as-a-tool-for-prevention-of-covid-19/
LOCATION:Faculty of Graduate Studies\, University of Sri Jayewardenepura\, Nugegoda\, Western Province\, 10250\, Sri Lanka
ATTACH;FMTTYPE=image/png:https://www.graduate.sjp.ac.lk/wp-content/uploads/2021/08/කොවිඩ්-19-වැළැක්වීමේ-මෙවලමක්-ලෙස-සතිමත්බව.png
ORGANIZER;CN="Faculty of Graduate Studies%2C University of Sri Jayewardenepura":MAILTO:fgsdeanoffice@sjp.ac.lk
END:VEVENT
BEGIN:VEVENT
DTSTART;TZID=Asia/Kolkata:20210427T030000
DTEND;TZID=Asia/Kolkata:20210427T160000
DTSTAMP:20260424T032131
CREATED:20210421T120220Z
LAST-MODIFIED:20210826T181225Z
UID:5993-1619492400-1619539200@www.graduate.sjp.ac.lk
SUMMARY:Worm diseases\, Consequences and Prevention of infections පණු රෝග\, ප්‍රතිවිපාක සහ ආසාදන වළක්වාගැනීම
DESCRIPTION:Monthly Public Lecture – April 2021\n\nJoin Zoom Meeting\nhttps://learn.zoom.us/j/69355021182?pwd=VGh3WFlYUjNIbGg4VEhVNGU1L1Q2dz09\n\n \nMeeting ID: 693 5502 1182\nPasscode: KusVys%0
URL:https://www.graduate.sjp.ac.lk/event/kingsters-alumni-golf-tour/
LOCATION:Faculty of Graduate Studies\, University of Sri Jayewardenepura\, Nugegoda\, Western Province\, 10250\, Sri Lanka
ATTACH;FMTTYPE=:
ORGANIZER;CN="Faculty of Graduate Studies%2C University of Sri Jayewardenepura":MAILTO:fgsdeanoffice@sjp.ac.lk
END:VEVENT
BEGIN:VEVENT
DTSTART;TZID=UTC:20210323T150000
DTEND;TZID=UTC:20210323T160000
DTSTAMP:20260424T032131
CREATED:20210317T032944Z
LAST-MODIFIED:20210917T033428Z
UID:7086-1616511600-1616515200@www.graduate.sjp.ac.lk
SUMMARY:Monthly Public Lecture - March 2021: "Is the COVID-19 Vaccine Safe?"
DESCRIPTION:
URL:https://www.graduate.sjp.ac.lk/event/monthly-public-lecture-march-2021-is-the-covid-19-vaccine-safe/
LOCATION:Faculty of Graduate Studies\, University of Sri Jayewardenepura\, Nugegoda\, Western Province\, 10250\, Sri Lanka
ORGANIZER;CN="Faculty of Graduate Studies%2C University of Sri Jayewardenepura":MAILTO:fgsdeanoffice@sjp.ac.lk
END:VEVENT
END:VCALENDAR